BEGIN:VCALENDAR
VERSION:2.0
PRODID:-//Karate Wołczyn - ECPv4.6.22.1//NONSGML v1.0//EN
CALSCALE:GREGORIAN
METHOD:PUBLISH
X-WR-CALNAME:Karate Wołczyn
X-ORIGINAL-URL:http://www.karate-wolczyn.pl
X-WR-CALDESC:Events for Karate Wołczyn
BEGIN:VEVENT
DTSTART;VALUE=DATE:20191214
DTEND;VALUE=DATE:20191215
DTSTAMP:20260420T093923
CREATED:20191208T210144Z
LAST-MODIFIED:20191208T210144Z
UID:1649-1576281600-1576367999@www.karate-wolczyn.pl
SUMMARY:Kurs Mistrzowski Polskiego Związku Karate Tradycyjnego 2019
DESCRIPTION:
URL:http://www.karate-wolczyn.pl/wydarzenie/kurs-mistrzowski-polskiego-zwiazku-karate-tradycyjnego-2019
END:VEVENT
END:VCALENDAR